BEGIN:VCALENDAR
PRODID:-//Universitaet Basel//Events//EN
VERSION:2.0
CALSCALE:GREGORIAN
BEGIN:VTIMEZONE
TZID:Europe/Zurich
LAST-MODIFIED:20260306T231828Z
TZURL:https://www.tzurl.org/zoneinfo/Europe/Zurich
X-LIC-LOCATION:Europe/Zurich
X-PROLEPTIC-TZNAME:LMT
BEGIN:STANDARD
TZNAME:BMT
TZOFFSETFROM:+003408
TZOFFSETTO:+002946
DTSTART:18530716T000000
END:STANDARD
BEGIN:STANDARD
TZNAME:CET
TZOFFSETFROM:+002946
TZOFFSETTO:+0100
DTSTART:18940601T000000
END:STANDARD
BEGIN:DAYLIGHT
TZNAME:CEST
TZOFFSETFROM:+0100
TZOFFSETTO:+0200
DTSTART:19410505T010000
RRULE:FREQ=YEARLY;UNTIL=19420504T000000Z;BYMONTH=5;BYDAY=1MO
END:DAYLIGHT
BEGIN:STANDARD
TZNAME:CET
TZOFFSETFROM:+0200
TZOFFSETTO:+0100
DTSTART:19411006T020000
RRULE:FREQ=YEARLY;UNTIL=19421005T000000Z;BYMONTH=10;BYDAY=1MO
END:STANDARD
BEGIN:DAYLIGHT
TZNAME:CEST
TZOFFSETFROM:+0100
TZOFFSETTO:+0200
DTSTART:19810329T020000
RRULE:FREQ=YEARLY;BYMONTH=3;BYDAY=-1SU
END:DAYLIGHT
BEGIN:STANDARD
TZNAME:CET
TZOFFSETFROM:+0200
TZOFFSETTO:+0100
DTSTART:19810927T030000
RRULE:FREQ=YEARLY;UNTIL=19950924T010000Z;BYMONTH=9;BYDAY=-1SU
END:STANDARD
BEGIN:STANDARD
TZNAME:CET
TZOFFSETFROM:+0200
TZOFFSETTO:+0100
DTSTART:19961027T030000
RRULE:FREQ=YEARLY;BYMONTH=10;BYDAY=-1SU
END:STANDARD
END:VTIMEZONE
BEGIN:VEVENT
DTSTAMP:20260421T173412Z
DTSTART;TZID=Europe/Zurich:20260520T170000
DTEND;TZID=Europe/Zurich:20260520T180000
SUMMARY:«CAS Wirkungsmanagement & MAS/DAS Nonprofit Management & Law»: On
 line Information Evening
UID:5820120e-2033-4a43-b05f-be73047fb61a
DESCRIPTION:Venue: online\n\nIn this continuing education program\, you w
 ill learn the basics of impact-oriented work in an efficient and compact
  manner – from strategic project planning to the targeted use of impact 
 data in communication and internal continuing education.\n\nIn addition 
 to the CAS Wirkungsmanagement\, you will also receive an overview of the
  MAS/DAS Nonprofit Management & Law.\n\nInformation about the study prog
 ram and the event\n\nRegistration form (Registration requested)\n
LOCATION:
CLASS:PUBLIC
END:VEVENT
END:VCALENDAR
